BEGIN:VCALENDAR
VERSION:2.0
PRODID:-//Burns Estate Planning &amp; Wealth Advisors - ECPv6.15.20//NONSGML v1.0//EN
CALSCALE:GREGORIAN
METHOD:PUBLISH
X-ORIGINAL-URL:https://burnsestateplanning.com
X-WR-CALDESC:Events for Burns Estate Planning &amp; Wealth Advisors
REFRESH-INTERVAL;VALUE=DURATION:PT1H
X-Robots-Tag:noindex
X-PUBLISHED-TTL:PT1H
BEGIN:VTIMEZONE
TZID:America/New_York
BEGIN:DAYLIGHT
TZOFFSETFROM:-0500
TZOFFSETTO:-0400
TZNAME:EDT
DTSTART:20240310T070000
END:DAYLIGHT
BEGIN:STANDARD
TZOFFSETFROM:-0400
TZOFFSETTO:-0500
TZNAME:EST
DTSTART:20241103T060000
END:STANDARD
BEGIN:DAYLIGHT
TZOFFSETFROM:-0500
TZOFFSETTO:-0400
TZNAME:EDT
DTSTART:20250309T070000
END:DAYLIGHT
BEGIN:STANDARD
TZOFFSETFROM:-0400
TZOFFSETTO:-0500
TZNAME:EST
DTSTART:20251102T060000
END:STANDARD
BEGIN:DAYLIGHT
TZOFFSETFROM:-0500
TZOFFSETTO:-0400
TZNAME:EDT
DTSTART:20260308T070000
END:DAYLIGHT
BEGIN:STANDARD
TZOFFSETFROM:-0400
TZOFFSETTO:-0500
TZNAME:EST
DTSTART:20261101T060000
END:STANDARD
END:VTIMEZONE
BEGIN:VEVENT
DTSTART;TZID=America/New_York:20250806T181500
DTEND;TZID=America/New_York:20250806T181500
DTSTAMP:20260424T095929
CREATED:20250619T141611Z
LAST-MODIFIED:20250619T141611Z
UID:45790-1754504100-1754504100@burnsestateplanning.com
SUMMARY:Dinner Seminar @ Desi Vega's (Metairie\, LA)
DESCRIPTION:
URL:https://burnsestateplanning.com/event-2/dinner-seminar-desi-vegas-metairie-la-2/
LOCATION:Desi Vega’s\, 111 Veterans Memorial Blvd Ste 150\, Metairie\, LA\, 70005\, United States
CATEGORIES:Louisiana Events
END:VEVENT
BEGIN:VEVENT
DTSTART;TZID=America/New_York:20250814T181500
DTEND;TZID=America/New_York:20250814T181500
DTSTAMP:20260424T095929
CREATED:20250619T142651Z
LAST-MODIFIED:20250619T142651Z
UID:45814-1755195300-1755195300@burnsestateplanning.com
SUMMARY:Dinner Seminar @ Fleming's (Metairie\, LA)
DESCRIPTION:
URL:https://burnsestateplanning.com/event-2/dinner-seminar-flemings-metairie-la/
LOCATION:Fleming’s Metairie\, 3064 N Causeway Blvd\, Metairie\, LA\, 70002\, United States
CATEGORIES:Louisiana Events
END:VEVENT
BEGIN:VEVENT
DTSTART;TZID=America/New_York:20250820T181500
DTEND;TZID=America/New_York:20250820T181500
DTSTAMP:20260424T095929
CREATED:20250619T142808Z
LAST-MODIFIED:20250619T142808Z
UID:45818-1755713700-1755713700@burnsestateplanning.com
SUMMARY:Dinner Seminar @ Jubans (Baton Rouge\, LA)
DESCRIPTION:
URL:https://burnsestateplanning.com/event-2/dinner-seminar-jubans-baton-rouge-la-5/
LOCATION:Juban’s\, 3739 Perkins Rd\, Baton Rouge\, LA\, 70808\, United States
CATEGORIES:Louisiana Events
END:VEVENT
BEGIN:VEVENT
DTSTART;TZID=America/New_York:20250827T181500
DTEND;TZID=America/New_York:20250827T181500
DTSTAMP:20260424T095929
CREATED:20250619T143254Z
LAST-MODIFIED:20250619T143254Z
UID:45830-1756318500-1756318500@burnsestateplanning.com
SUMMARY:Dinner Seminar @ Ruffino's (Baton Rouge\, LA)
DESCRIPTION:
URL:https://burnsestateplanning.com/event-2/dinner-seminar-ruffinos-baton-rouge-la-5/
LOCATION:Ruffino’s Italian Restaurant\, 18811 Highland Rd\, Baton Rouge\, LA\, 70809\, United States
CATEGORIES:Louisiana Events
END:VEVENT
END:VCALENDAR