BEGIN:VCALENDAR
VERSION:2.0
PRODID:-//Burns Estate Planning &amp; Wealth Advisors - ECPv6.15.20//NONSGML v1.0//EN
CALSCALE:GREGORIAN
METHOD:PUBLISH
X-ORIGINAL-URL:https://burnsestateplanning.com
X-WR-CALDESC:Events for Burns Estate Planning &amp; Wealth Advisors
REFRESH-INTERVAL;VALUE=DURATION:PT1H
X-Robots-Tag:noindex
X-PUBLISHED-TTL:PT1H
BEGIN:VTIMEZONE
TZID:America/New_York
BEGIN:DAYLIGHT
TZOFFSETFROM:-0500
TZOFFSETTO:-0400
TZNAME:EDT
DTSTART:20240310T070000
END:DAYLIGHT
BEGIN:STANDARD
TZOFFSETFROM:-0400
TZOFFSETTO:-0500
TZNAME:EST
DTSTART:20241103T060000
END:STANDARD
BEGIN:DAYLIGHT
TZOFFSETFROM:-0500
TZOFFSETTO:-0400
TZNAME:EDT
DTSTART:20250309T070000
END:DAYLIGHT
BEGIN:STANDARD
TZOFFSETFROM:-0400
TZOFFSETTO:-0500
TZNAME:EST
DTSTART:20251102T060000
END:STANDARD
BEGIN:DAYLIGHT
TZOFFSETFROM:-0500
TZOFFSETTO:-0400
TZNAME:EDT
DTSTART:20260308T070000
END:DAYLIGHT
BEGIN:STANDARD
TZOFFSETFROM:-0400
TZOFFSETTO:-0500
TZNAME:EST
DTSTART:20261101T060000
END:STANDARD
END:VTIMEZONE
BEGIN:VEVENT
DTSTART;TZID=America/New_York:20250904T181500
DTEND;TZID=America/New_York:20250904T181500
DTSTAMP:20260422T130359
CREATED:20250812T184740Z
LAST-MODIFIED:20250812T184740Z
UID:45932-1757009700-1757009700@burnsestateplanning.com
SUMMARY:Dinner Seminar @ The Dakota (Covington\, LA)
DESCRIPTION:
URL:https://burnsestateplanning.com/event-2/dinner-seminar-the-dakota-covington-la-6/
LOCATION:The Dakota\, 629 U.S. Hwy 190\, Covington\, LA\, 70433\, United States
CATEGORIES:Louisiana Events
END:VEVENT
BEGIN:VEVENT
DTSTART;TZID=America/New_York:20250911T181500
DTEND;TZID=America/New_York:20250911T181500
DTSTAMP:20260422T130359
CREATED:20250812T185200Z
LAST-MODIFIED:20250812T185200Z
UID:45944-1757614500-1757614500@burnsestateplanning.com
SUMMARY:Dinner Seminar @ Tchefuncta's (Madisonville\, LA)
DESCRIPTION:
URL:https://burnsestateplanning.com/event-2/dinner-seminar-tchefunctas-madisonville-la/
LOCATION:Tchefunctes Steak & Seafood\, 407 St Tammany St\, Madisonville\, LA\, 70447\, United States
CATEGORIES:Louisiana Events
END:VEVENT
END:VCALENDAR