BEGIN:VCALENDAR
VERSION:2.0
PRODID:-//Burns Estate Planning &amp; Wealth Advisors - ECPv6.15.20//NONSGML v1.0//EN
CALSCALE:GREGORIAN
METHOD:PUBLISH
X-WR-CALNAME:Burns Estate Planning &amp; Wealth Advisors
X-ORIGINAL-URL:https://burnsestateplanning.com
X-WR-CALDESC:Events for Burns Estate Planning &amp; Wealth Advisors
REFRESH-INTERVAL;VALUE=DURATION:PT1H
X-Robots-Tag:noindex
X-PUBLISHED-TTL:PT1H
BEGIN:VTIMEZONE
TZID:America/New_York
BEGIN:DAYLIGHT
TZOFFSETFROM:-0500
TZOFFSETTO:-0400
TZNAME:EDT
DTSTART:20240310T070000
END:DAYLIGHT
BEGIN:STANDARD
TZOFFSETFROM:-0400
TZOFFSETTO:-0500
TZNAME:EST
DTSTART:20241103T060000
END:STANDARD
BEGIN:DAYLIGHT
TZOFFSETFROM:-0500
TZOFFSETTO:-0400
TZNAME:EDT
DTSTART:20250309T070000
END:DAYLIGHT
BEGIN:STANDARD
TZOFFSETFROM:-0400
TZOFFSETTO:-0500
TZNAME:EST
DTSTART:20251102T060000
END:STANDARD
BEGIN:DAYLIGHT
TZOFFSETFROM:-0500
TZOFFSETTO:-0400
TZNAME:EDT
DTSTART:20260308T070000
END:DAYLIGHT
BEGIN:STANDARD
TZOFFSETFROM:-0400
TZOFFSETTO:-0500
TZNAME:EST
DTSTART:20261101T060000
END:STANDARD
END:VTIMEZONE
BEGIN:VEVENT
DTSTART;TZID=America/New_York:20251008T181500
DTEND;TZID=America/New_York:20251008T181500
DTSTAMP:20260422T113416
CREATED:20250827T180546Z
LAST-MODIFIED:20250827T180546Z
UID:46021-1759947300-1759947300@burnsestateplanning.com
SUMMARY:Dinner Seminar @ The SteaKhouse (Hammond\, LA)
DESCRIPTION:
URL:https://burnsestateplanning.com/event-2/dinner-seminar-the-steakhouse-hammond-la-2/
LOCATION:SteaKhouse\, 200 SW Railroad Ave\, Hammond\, LA\, 70403\, United States
CATEGORIES:Louisiana Events
END:VEVENT
BEGIN:VEVENT
DTSTART;TZID=America/New_York:20251016T181500
DTEND;TZID=America/New_York:20251016T181500
DTSTAMP:20260422T113416
CREATED:20250827T180737Z
LAST-MODIFIED:20250827T180737Z
UID:46025-1760638500-1760638500@burnsestateplanning.com
SUMMARY:Dinner Seminar @ Roux & Brew (Ponchatoula \, LA)
DESCRIPTION:
URL:https://burnsestateplanning.com/event-2/dinner-seminar-roux-brew-ponchatoula-la-5/
LOCATION:Roux & Brew\, 135 SW Railroad Ave\, Ponchatoula\, LA\, 70454\, United States
CATEGORIES:Louisiana Events
END:VEVENT
END:VCALENDAR