BEGIN:VCALENDAR
VERSION:2.0
PRODID:-//Burns Estate Planning &amp; Wealth Advisors - ECPv6.15.20//NONSGML v1.0//EN
CALSCALE:GREGORIAN
METHOD:PUBLISH
X-WR-CALNAME:Burns Estate Planning &amp; Wealth Advisors
X-ORIGINAL-URL:https://burnsestateplanning.com
X-WR-CALDESC:Events for Burns Estate Planning &amp; Wealth Advisors
REFRESH-INTERVAL;VALUE=DURATION:PT1H
X-Robots-Tag:noindex
X-PUBLISHED-TTL:PT1H
BEGIN:VTIMEZONE
TZID:America/New_York
BEGIN:DAYLIGHT
TZOFFSETFROM:-0500
TZOFFSETTO:-0400
TZNAME:EDT
DTSTART:20230312T070000
END:DAYLIGHT
BEGIN:STANDARD
TZOFFSETFROM:-0400
TZOFFSETTO:-0500
TZNAME:EST
DTSTART:20231105T060000
END:STANDARD
BEGIN:DAYLIGHT
TZOFFSETFROM:-0500
TZOFFSETTO:-0400
TZNAME:EDT
DTSTART:20240310T070000
END:DAYLIGHT
BEGIN:STANDARD
TZOFFSETFROM:-0400
TZOFFSETTO:-0500
TZNAME:EST
DTSTART:20241103T060000
END:STANDARD
BEGIN:DAYLIGHT
TZOFFSETFROM:-0500
TZOFFSETTO:-0400
TZNAME:EDT
DTSTART:20250309T070000
END:DAYLIGHT
BEGIN:STANDARD
TZOFFSETFROM:-0400
TZOFFSETTO:-0500
TZNAME:EST
DTSTART:20251102T060000
END:STANDARD
END:VTIMEZONE
BEGIN:VEVENT
DTSTART;TZID=America/New_York:20241203T181500
DTEND;TZID=America/New_York:20241203T181500
DTSTAMP:20260423T225435
CREATED:20241024T172339Z
LAST-MODIFIED:20241024T172339Z
UID:45282-1733249700-1733249700@burnsestateplanning.com
SUMMARY:Dinner Seminar @ Marina Cafe (Destin\, FL)
DESCRIPTION:
URL:https://burnsestateplanning.com/event-2/dinner-seminar-marina-cafe-destin-fl/
LOCATION:Marina Cafe\, 404 Harbor Blvd\, Destin\, FL\, 32541
CATEGORIES:Florida Events
END:VEVENT
BEGIN:VEVENT
DTSTART;TZID=America/New_York:20241203T181500
DTEND;TZID=America/New_York:20241203T181500
DTSTAMP:20260423T225435
CREATED:20241024T172304Z
LAST-MODIFIED:20241024T172304Z
UID:45278-1733249700-1733249700@burnsestateplanning.com
SUMMARY:Dinner Seminar @ Renato's (Palm Beach\, FL)
DESCRIPTION:
URL:https://burnsestateplanning.com/event-2/dinner-seminar-renatos-palm-beach-fl-4/
LOCATION:Renato’s\, 87 Via Mizner\, Palm Beach\, FL\, 33480\, United States
CATEGORIES:Florida Events
END:VEVENT
BEGIN:VEVENT
DTSTART;TZID=America/New_York:20241120T181500
DTEND;TZID=America/New_York:20241120T181500
DTSTAMP:20260423T225435
CREATED:20241024T172203Z
LAST-MODIFIED:20241024T172203Z
UID:45274-1732126500-1732126500@burnsestateplanning.com
SUMMARY:Dinner Seminar @ The Wash House (Fairhope\, AL)
DESCRIPTION:
URL:https://burnsestateplanning.com/event-2/dinner-seminar-the-wash-house-fairhope-al-9/
LOCATION:Wash House\, 17111 Scenic Hwy 98\, Fairhope\, AL\, 36532\, United States
CATEGORIES:Alabama Events
END:VEVENT
BEGIN:VEVENT
DTSTART;TZID=America/New_York:20241120T181500
DTEND;TZID=America/New_York:20241120T181500
DTSTAMP:20260423T225435
CREATED:20241024T172124Z
LAST-MODIFIED:20241024T172124Z
UID:45270-1732126500-1732126500@burnsestateplanning.com
SUMMARY:Dinner Seminar @ Morton's The Steakhouse (West Palm Beach\, FL)
DESCRIPTION:
URL:https://burnsestateplanning.com/event-2/dinner-seminar-mortons-the-steakhouse-west-palm-beach-fl-7/
LOCATION:Morton’s Steakhouse WPB\, 777 S Flagler Dr\, West Palm Beach\, FL\, 33401\, United States
CATEGORIES:Florida Events
END:VEVENT
BEGIN:VEVENT
DTSTART;TZID=America/New_York:20241119T181500
DTEND;TZID=America/New_York:20241119T181500
DTSTAMP:20260423T225435
CREATED:20241024T172027Z
LAST-MODIFIED:20241024T172041Z
UID:45266-1732040100-1732040100@burnsestateplanning.com
SUMMARY:Dinner Seminar @ Fleming's Prime Steakhouse (Sandestin\, FL)
DESCRIPTION:
URL:https://burnsestateplanning.com/event-2/dinner-seminar-flemings-prime-steakhouse-sandestin-fl-3/
LOCATION:Fleming’s Sandestin\, 600 Grand Blvd\, Suite M105\, Sandestin\, FL\, 32550\, United States
CATEGORIES:Florida Events
END:VEVENT
BEGIN:VEVENT
DTSTART;TZID=America/New_York:20241119T181500
DTEND;TZID=America/New_York:20241119T181500
DTSTAMP:20260423T225435
CREATED:20241015T155833Z
LAST-MODIFIED:20241015T155833Z
UID:45216-1732040100-1732040100@burnsestateplanning.com
SUMMARY:Dinner Seminar @ The Dakota (Covington\, LA)
DESCRIPTION:
URL:https://burnsestateplanning.com/event-2/dinner-seminar-the-dakota-covington-la-4/
LOCATION:Dakota (New Location)\, 310 E Boston Street\, Covington\, LA\, 70433\, United States
CATEGORIES:Louisiana Events
END:VEVENT
BEGIN:VEVENT
DTSTART;TZID=America/New_York:20241113T181500
DTEND;TZID=America/New_York:20241113T181500
DTSTAMP:20260423T225435
CREATED:20241024T170351Z
LAST-MODIFIED:20241024T170351Z
UID:45262-1731521700-1731521700@burnsestateplanning.com
SUMMARY:Dinner Seminar @ Ruth Chris Steak House (Destin\, FL)
DESCRIPTION:
URL:https://burnsestateplanning.com/event-2/dinner-seminar-ruth-chris-steak-house-destin-fl-8/
LOCATION:Ruth Chris Steak House (DEST)\, 15000 Emerald Coast Pkwy\, Destin\, FL\, 32541\, United States
CATEGORIES:Florida Events
END:VEVENT
BEGIN:VEVENT
DTSTART;TZID=America/New_York:20241113T181500
DTEND;TZID=America/New_York:20241113T181500
DTSTAMP:20260423T225435
CREATED:20241024T170258Z
LAST-MODIFIED:20241024T170258Z
UID:45258-1731521700-1731521700@burnsestateplanning.com
SUMMARY:Dinner Seminar @ Seasons 52 (Jacksonville\, FL)
DESCRIPTION:
URL:https://burnsestateplanning.com/event-2/dinner-seminar-seasons-52-jacksonville-fl-3/
LOCATION:Seasons 52 Jacksonville\, 5096 Big Island Dr\, Jacksonville\, FL\, 32246\, United States
CATEGORIES:Florida Events
END:VEVENT
BEGIN:VEVENT
DTSTART;TZID=America/New_York:20241112T181500
DTEND;TZID=America/New_York:20241112T181500
DTSTAMP:20260423T225435
CREATED:20241024T170218Z
LAST-MODIFIED:20241024T170218Z
UID:45254-1731435300-1731435300@burnsestateplanning.com
SUMMARY:Dinner Seminar @ Jackson's Steakhouse (Pensacola\, FL)
DESCRIPTION:
URL:https://burnsestateplanning.com/event-2/dinner-seminar-jacksons-steakhouse-pensacola-fl-9/
LOCATION:Jackson’s Steakhouse\, 400 S Palafox Street\, Pensacola\, FL\, 32502\, United States
CATEGORIES:Florida Events
END:VEVENT
BEGIN:VEVENT
DTSTART;TZID=America/New_York:20241112T181500
DTEND;TZID=America/New_York:20241112T181500
DTSTAMP:20260423T225435
CREATED:20241024T170124Z
LAST-MODIFIED:20241024T170124Z
UID:45250-1731435300-1731435300@burnsestateplanning.com
SUMMARY:Dinner Seminar @ Seasons 52 (Palm Beach Gardens\, FL)
DESCRIPTION:
URL:https://burnsestateplanning.com/event-2/dinner-seminar-seasons-52-palm-beach-gardens-fl-7/
LOCATION:Seasons 52\, 11611 Ellison Wilson Rd\, Palm Beach Gardens\, FL\, 33408\, United States
CATEGORIES:Florida Events
END:VEVENT
BEGIN:VEVENT
DTSTART;TZID=America/New_York:20241112T181500
DTEND;TZID=America/New_York:20241112T181500
DTSTAMP:20260423T225435
CREATED:20241015T155748Z
LAST-MODIFIED:20241015T161720Z
UID:45214-1731435300-1731435300@burnsestateplanning.com
SUMMARY:Dinner Seminar @ Palmettos On The Bayou (Slidell\, LA)
DESCRIPTION:
URL:https://burnsestateplanning.com/event-2/dinner-seminar-palmettos-on-the-bayou-slidell-la-2/
LOCATION:Palmettos on the Bayou\, 1901 Bayou Ln\, Slidell\, LA\, 70458\, United States
CATEGORIES:Louisiana Events
END:VEVENT
BEGIN:VEVENT
DTSTART;TZID=America/New_York:20241107T181500
DTEND;TZID=America/New_York:20241107T181500
DTSTAMP:20260423T225435
CREATED:20241024T170035Z
LAST-MODIFIED:20241024T170035Z
UID:45246-1731003300-1731003300@burnsestateplanning.com
SUMMARY:Dinner Seminar @ Ruth Chris Steak House (Jacksonville\, FL)
DESCRIPTION:
URL:https://burnsestateplanning.com/event-2/dinner-seminar-ruth-chris-steak-house-jacksonville-fl/
LOCATION:Ruth Chris Steak House (Jacksonville)\, 1201 Riverplace Blvd.\, Jacksonville\, FL\, 32207\, United States
CATEGORIES:Florida Events
END:VEVENT
BEGIN:VEVENT
DTSTART;TZID=America/New_York:20241106T181500
DTEND;TZID=America/New_York:20241106T181500
DTSTAMP:20260423T225435
CREATED:20241015T155727Z
LAST-MODIFIED:20241015T160152Z
UID:45212-1730916900-1730916900@burnsestateplanning.com
SUMMARY:Dinner Seminar @ Joe's Italian Ristorante (Slidell\, LA)
DESCRIPTION:
URL:https://burnsestateplanning.com/event-2/dinner-seminar-joes-italian-ristorante-slidell-la-2/
LOCATION:Joe’s Italian Ristorante\, 300 Oak Harbor Blvd\, Slidell\, LA\, 70458\, United States
CATEGORIES:Louisiana Events
END:VEVENT
BEGIN:VEVENT
DTSTART;TZID=America/New_York:20241105T181500
DTEND;TZID=America/New_York:20241105T181500
DTSTAMP:20260423T225435
CREATED:20241024T165842Z
LAST-MODIFIED:20241024T165842Z
UID:45241-1730830500-1730830500@burnsestateplanning.com
SUMMARY:Dinner Seminar @ The Grand Marlin of Pensacola Beach (Pensacola Beach\, FL)
DESCRIPTION:
URL:https://burnsestateplanning.com/event-2/dinner-seminar-the-grand-marlin-of-pensacola-beach-pensacola-beach-fl-4/
LOCATION:The Grand Marlin Pensacola\, 400 Pensacola Beach Blvd\, Pensacola Beach\, FL\, 32561\, United States
CATEGORIES:Florida Events
END:VEVENT
BEGIN:VEVENT
DTSTART;TZID=America/New_York:20241105T181500
DTEND;TZID=America/New_York:20241105T181500
DTSTAMP:20260423T225435
CREATED:20241024T165750Z
LAST-MODIFIED:20241024T165919Z
UID:45237-1730830500-1730830500@burnsestateplanning.com
SUMMARY:Dinner Seminar @ Morton's The Steakhouse (West Palm Beach\, FL)
DESCRIPTION:
URL:https://burnsestateplanning.com/event-2/dinner-seminar-mortons-the-steakhouse/
LOCATION:Morton’s Steakhouse WPB\, 777 S Flagler Dr\, West Palm Beach\, FL\, 33401\, United States
CATEGORIES:Florida Events
END:VEVENT
BEGIN:VEVENT
DTSTART;TZID=America/New_York:20241030T181500
DTEND;TZID=America/New_York:20241030T181500
DTSTAMP:20260423T225436
CREATED:20240925T162107Z
LAST-MODIFIED:20240925T162107Z
UID:45156-1730312100-1730312100@burnsestateplanning.com
SUMMARY:Dinner Seminar @ Fleming's Prime Steakhouse (Metairie\, LA)
DESCRIPTION:
URL:https://burnsestateplanning.com/event-2/dinner-seminar-flemings-prime-steakhouse-metairie-la-3/
LOCATION:Fleming’s Metairie\, 3064 N Causeway Blvd\, Metairie\, LA\, 70002\, United States
CATEGORIES:Louisiana Events
END:VEVENT
BEGIN:VEVENT
DTSTART;TZID=America/New_York:20241029T181500
DTEND;TZID=America/New_York:20241029T181500
DTSTAMP:20260423T225436
CREATED:20240925T144025Z
LAST-MODIFIED:20240925T144025Z
UID:45142-1730225700-1730225700@burnsestateplanning.com
SUMMARY:Dinner Seminar @ Firefly (Panama City Beach\, FL)
DESCRIPTION:
URL:https://burnsestateplanning.com/event-2/dinner-seminar-firefly-panama-city-beach-fl-7/
LOCATION:Firefly\, 535 N Richard Jackson Blvd\, Panama City Beach\, FL\, 32407\, United States
CATEGORIES:Florida Events
END:VEVENT
BEGIN:VEVENT
DTSTART;TZID=America/New_York:20241023T181500
DTEND;TZID=America/New_York:20241023T181500
DTSTAMP:20260423T225436
CREATED:20240925T162314Z
LAST-MODIFIED:20240925T162314Z
UID:45162-1729707300-1729707300@burnsestateplanning.com
SUMMARY:Dinner Seminar @ Desi Vega's (Metairie\, LA)
DESCRIPTION:
URL:https://burnsestateplanning.com/event-2/dinner-seminar-desi-vegas-metairie-la/
LOCATION:Desi Vega’s\, 111 Veterans Memorial Blvd Ste 150\, Metairie\, LA\, 70005\, United States
CATEGORIES:Louisiana Events
END:VEVENT
BEGIN:VEVENT
DTSTART;TZID=America/New_York:20241023T181500
DTEND;TZID=America/New_York:20241023T181500
DTSTAMP:20260423T225436
CREATED:20240925T143937Z
LAST-MODIFIED:20240925T143937Z
UID:45138-1729707300-1729707300@burnsestateplanning.com
SUMMARY:Dinner Seminar @ Renato's (Palm Beach\, FL)
DESCRIPTION:
URL:https://burnsestateplanning.com/event-2/dinner-seminar-renatos-palm-beach-fl-3/
LOCATION:Renato’s\, 87 Via Mizner\, Palm Beach\, FL\, 33480\, United States
CATEGORIES:Florida Events
END:VEVENT
BEGIN:VEVENT
DTSTART;TZID=America/New_York:20241022T181500
DTEND;TZID=America/New_York:20241022T181500
DTSTAMP:20260423T225436
CREATED:20240925T143748Z
LAST-MODIFIED:20240925T143748Z
UID:45134-1729620900-1729620900@burnsestateplanning.com
SUMMARY:Dinner Seminar @ Blu Halo (Tallahassee\, FL)
DESCRIPTION:
URL:https://burnsestateplanning.com/event-2/dinner-seminar-blu-halo-tallahassee-fl-13/
LOCATION:Blu Halo\, 3431 Bannerman Rd Suite 102\, Tallahassee\, FL\, 32312\, United States
CATEGORIES:Florida Events
END:VEVENT
BEGIN:VEVENT
DTSTART;TZID=America/New_York:20241022T181500
DTEND;TZID=America/New_York:20241022T181500
DTSTAMP:20260423T225436
CREATED:20240925T143636Z
LAST-MODIFIED:20240925T143636Z
UID:45130-1729620900-1729620900@burnsestateplanning.com
SUMMARY:Dinner Seminar @ The Grand Marlin (Panama City Beach\, FL)
DESCRIPTION:
URL:https://burnsestateplanning.com/event-2/dinner-seminar-the-grand-marlin-panama-city-beach-fl-3/
LOCATION:The Grand Marlin\, 5353 N Lagoon Dr\, Panama City Beach\, FL\, 32408\, United States
CATEGORIES:Florida Events
END:VEVENT
BEGIN:VEVENT
DTSTART;TZID=America/New_York:20241016T181500
DTEND;TZID=America/New_York:20241016T181500
DTSTAMP:20260423T225436
CREATED:20240925T143424Z
LAST-MODIFIED:20240925T143424Z
UID:45126-1729102500-1729102500@burnsestateplanning.com
SUMMARY:Dinner Seminar @ Firefly (Panama City Beach\, FL)
DESCRIPTION:
URL:https://burnsestateplanning.com/event-2/dinner-seminar-firefly-panama-city-beach-fl-6/
LOCATION:Firefly\, 535 N Richard Jackson Blvd\, Panama City Beach\, FL\, 32407\, United States
CATEGORIES:Florida Events
END:VEVENT
BEGIN:VEVENT
DTSTART;TZID=America/New_York:20241016T181500
DTEND;TZID=America/New_York:20241016T181500
DTSTAMP:20260423T225436
CREATED:20240925T143332Z
LAST-MODIFIED:20240925T143332Z
UID:45122-1729102500-1729102500@burnsestateplanning.com
SUMMARY:Dinner Seminar @ Dauphin's Casual Fine Dinning (Mobile\, AL)
DESCRIPTION:
URL:https://burnsestateplanning.com/event-2/dinner-seminar-dauphins-casual-fine-dinning-mobile-al/
LOCATION:Dauphin’s\, 107 St. Francis St\, Suite 3400\, Mobile\, AL\, 36602\, United States
CATEGORIES:Alabama Events
END:VEVENT
BEGIN:VEVENT
DTSTART;TZID=America/New_York:20241015T181500
DTEND;TZID=America/New_York:20241015T181500
DTSTAMP:20260423T225436
CREATED:20240925T144153Z
LAST-MODIFIED:20240925T144153Z
UID:45150-1729016100-1729016100@burnsestateplanning.com
SUMMARY:Dinner Seminar @ Roux & Brew (Ponchatoula\, LA)
DESCRIPTION:
URL:https://burnsestateplanning.com/event-2/dinner-seminar-roux-brew-ponchatoula-la-3/
LOCATION:Roux & Brew\, 135 SW Railroad Ave\, Ponchatoula\, LA\, 70454\, United States
CATEGORIES:Louisiana Events
END:VEVENT
BEGIN:VEVENT
DTSTART;TZID=America/New_York:20241015T181500
DTEND;TZID=America/New_York:20241015T181500
DTSTAMP:20260423T225436
CREATED:20240925T143242Z
LAST-MODIFIED:20240925T143242Z
UID:45118-1729016100-1729016100@burnsestateplanning.com
SUMMARY:Dinner Seminar @ Seasons 52 (Palm Beach Gardens\, FL)
DESCRIPTION:
URL:https://burnsestateplanning.com/event-2/dinner-seminar-seasons-52-palm-beach-gardens-fl-6/
LOCATION:Seasons 52\, 11611 Ellison Wilson Rd\, Palm Beach Gardens\, FL\, 33408\, United States
CATEGORIES:Florida Events
END:VEVENT
BEGIN:VEVENT
DTSTART;TZID=America/New_York:20241010T181500
DTEND;TZID=America/New_York:20241010T181500
DTSTAMP:20260423T225436
CREATED:20240925T144107Z
LAST-MODIFIED:20240925T144107Z
UID:45146-1728584100-1728584100@burnsestateplanning.com
SUMMARY:Dinner Seminar @ Jacmel Inn (Hammond\, LA)
DESCRIPTION:
URL:https://burnsestateplanning.com/event-2/dinner-seminar-jacmel-inn-hammond-la-3/
LOCATION:Jacmel Inn\, 9030 E Morris Ave\, Hammond\, LA\, 70401\, United States
CATEGORIES:Louisiana Events
END:VEVENT
BEGIN:VEVENT
DTSTART;TZID=America/New_York:20241008T181500
DTEND;TZID=America/New_York:20241008T181500
DTSTAMP:20260423T225436
CREATED:20240925T142719Z
LAST-MODIFIED:20240925T142719Z
UID:45105-1728411300-1728411300@burnsestateplanning.com
SUMMARY:Dinner Seminar @ Georgios Fine Food & Spirits (Tallahassee\, FL)
DESCRIPTION:
URL:https://burnsestateplanning.com/event-2/dinner-seminar-georgios-fine-food-spirits-tallahassee-fl-4/
LOCATION:Georgio’s\, 2971 Apalachee Pkwy\, Tallahassee\, FL\, 32301\, United States
CATEGORIES:Florida Events
END:VEVENT
BEGIN:VEVENT
DTSTART;TZID=America/New_York:20241001T181500
DTEND;TZID=America/New_York:20241001T181500
DTSTAMP:20260423T225436
CREATED:20240925T142608Z
LAST-MODIFIED:20240925T142608Z
UID:45101-1727806500-1727806500@burnsestateplanning.com
SUMMARY:Dinner Seminar @ The Wash House (Fairhope\, AL)
DESCRIPTION:
URL:https://burnsestateplanning.com/event-2/dinner-seminar-the-wash-house-fairhope-al-8/
LOCATION:Wash House\, 17111 Scenic Hwy 98\, Fairhope\, AL\, 36532\, United States
CATEGORIES:Alabama Events
END:VEVENT
BEGIN:VEVENT
DTSTART;TZID=America/New_York:20241001T181500
DTEND;TZID=America/New_York:20241001T181500
DTSTAMP:20260423T225436
CREATED:20240821T205149Z
LAST-MODIFIED:20240821T205149Z
UID:45039-1727806500-1727806500@burnsestateplanning.com
SUMMARY:Dinner Seminar @ Keith Young's Steakhouse (Madisonville\, LA)
DESCRIPTION:
URL:https://burnsestateplanning.com/event-2/dinner-seminar-keith-youngs-steakhouse-madisonville-la-7/
LOCATION:Keith Young’s Steakhouse\, 165 LA-21\, Madisonville\, LA\, 70447\, United States
CATEGORIES:Louisiana Events
END:VEVENT
BEGIN:VEVENT
DTSTART;TZID=America/New_York:20240925T181500
DTEND;TZID=America/New_York:20240925T181500
DTSTAMP:20260423T225436
CREATED:20240821T173237Z
LAST-MODIFIED:20240821T173237Z
UID:45026-1727288100-1727288100@burnsestateplanning.com
SUMMARY:Dinner Seminar @ Firefly (Panama City Beach\, FL)
DESCRIPTION:
URL:https://burnsestateplanning.com/event-2/dinner-seminar-firefly-panama-city-beach-fl-5/
LOCATION:Firefly\, 535 N Richard Jackson Blvd\, Panama City Beach\, FL\, 32407\, United States
CATEGORIES:Florida Events
END:VEVENT
END:VCALENDAR