BEGIN:VCALENDAR
VERSION:2.0
PRODID:-//Burns Estate Planning &amp; Wealth Advisors - ECPv6.15.20//NONSGML v1.0//EN
CALSCALE:GREGORIAN
METHOD:PUBLISH
X-ORIGINAL-URL:https://burnsestateplanning.com
X-WR-CALDESC:Events for Burns Estate Planning &amp; Wealth Advisors
REFRESH-INTERVAL;VALUE=DURATION:PT1H
X-Robots-Tag:noindex
X-PUBLISHED-TTL:PT1H
BEGIN:VTIMEZONE
TZID:America/New_York
BEGIN:DAYLIGHT
TZOFFSETFROM:-0500
TZOFFSETTO:-0400
TZNAME:EDT
DTSTART:20240310T070000
END:DAYLIGHT
BEGIN:STANDARD
TZOFFSETFROM:-0400
TZOFFSETTO:-0500
TZNAME:EST
DTSTART:20241103T060000
END:STANDARD
BEGIN:DAYLIGHT
TZOFFSETFROM:-0500
TZOFFSETTO:-0400
TZNAME:EDT
DTSTART:20250309T070000
END:DAYLIGHT
BEGIN:STANDARD
TZOFFSETFROM:-0400
TZOFFSETTO:-0500
TZNAME:EST
DTSTART:20251102T060000
END:STANDARD
BEGIN:DAYLIGHT
TZOFFSETFROM:-0500
TZOFFSETTO:-0400
TZNAME:EDT
DTSTART:20260308T070000
END:DAYLIGHT
BEGIN:STANDARD
TZOFFSETFROM:-0400
TZOFFSETTO:-0500
TZNAME:EST
DTSTART:20261101T060000
END:STANDARD
END:VTIMEZONE
BEGIN:VEVENT
DTSTART;TZID=America/New_York:20250408T181500
DTEND;TZID=America/New_York:20250408T181500
DTSTAMP:20260423T124115
CREATED:20250305T181928Z
LAST-MODIFIED:20250305T181928Z
UID:45511-1744136100-1744136100@burnsestateplanning.com
SUMMARY:Dinner Seminar @ Porter & Luke (Metairie\, LA)
DESCRIPTION:
URL:https://burnsestateplanning.com/event-2/dinner-seminar-porter-luke-metairie-la/
LOCATION:Porter & Luke’s\, 1517 Metairie Rd\, Metairie\, LA\, 70005\, United States
CATEGORIES:Louisiana Events
END:VEVENT
BEGIN:VEVENT
DTSTART;TZID=America/New_York:20250408T181500
DTEND;TZID=America/New_York:20250408T181500
DTSTAMP:20260423T124115
CREATED:20250305T181613Z
LAST-MODIFIED:20250305T181613Z
UID:45507-1744136100-1744136100@burnsestateplanning.com
SUMMARY:Dinner Seminar @ Cowford Chophouse (Jacksonville\, FL)
DESCRIPTION:
URL:https://burnsestateplanning.com/event-2/dinner-seminar-cowford-chophouse-jacksonville-fl-2/
LOCATION:Cowford Chophouse\, 101 E Bay St\, Jacksonville\, FL\, 32202\, United States
END:VEVENT
BEGIN:VEVENT
DTSTART;TZID=America/New_York:20250402T181500
DTEND;TZID=America/New_York:20250402T181500
DTSTAMP:20260423T124115
CREATED:20250305T181453Z
LAST-MODIFIED:20250305T181453Z
UID:45503-1743617700-1743617700@burnsestateplanning.com
SUMMARY:Dinner Seminar @ Marina Cafe (Destin\, FL)
DESCRIPTION:
URL:https://burnsestateplanning.com/event-2/dinner-seminar-marina-cafe-destin-fl-2/
LOCATION:Marina Cafe\, 404 Harbor Blvd\, Destin\, FL\, 32541
CATEGORIES:Florida Events
END:VEVENT
BEGIN:VEVENT
DTSTART;TZID=America/New_York:20250402T181500
DTEND;TZID=America/New_York:20250402T181500
DTSTAMP:20260423T124115
CREATED:20250305T181127Z
LAST-MODIFIED:20250305T181127Z
UID:45498-1743617700-1743617700@burnsestateplanning.com
SUMMARY:Dinner Seminar @ Seasons 52 (Palm Beach Gardens\, FL)
DESCRIPTION:
URL:https://burnsestateplanning.com/event-2/dinner-seminar-seasons-52-palm-beach-gardens-fl-8/
LOCATION:Seasons 52\, 11611 Ellison Wilson Rd\, Palm Beach Gardens\, FL\, 33408\, United States
CATEGORIES:Florida Events
END:VEVENT
BEGIN:VEVENT
DTSTART;TZID=America/New_York:20250401T181500
DTEND;TZID=America/New_York:20250401T181500
DTSTAMP:20260423T124115
CREATED:20250305T180759Z
LAST-MODIFIED:20250305T180759Z
UID:45490-1743531300-1743531300@burnsestateplanning.com
SUMMARY:Dinner Seminar @ Fleming’s Prime Steakhouse & Wine Bar (Metairie\, LA)
DESCRIPTION:
URL:https://burnsestateplanning.com/event-2/dinner-seminar-flemings-prime-steakhouse-wine-bar-metairie-la/
LOCATION:Fleming’s Metairie\, 3064 N Causeway Blvd\, Metairie\, LA\, 70002\, United States
CATEGORIES:Louisiana Events
END:VEVENT
BEGIN:VEVENT
DTSTART;TZID=America/New_York:20250327T181500
DTEND;TZID=America/New_York:20250327T181500
DTSTAMP:20260423T124115
CREATED:20250220T173732Z
LAST-MODIFIED:20250220T173732Z
UID:45431-1743099300-1743099300@burnsestateplanning.com
SUMMARY:Dinner Seminar @ Gallagher's on Front Street (Slidell\, LA )
DESCRIPTION:
URL:https://burnsestateplanning.com/event-2/dinner-seminar-gallaghers-on-front-street-slidell-la-9/
LOCATION:Gallagher’s on Front St\, 2306 Front St\, Slidell\, LA\, 70458\, United States
CATEGORIES:Louisiana Events
END:VEVENT
BEGIN:VEVENT
DTSTART;TZID=America/New_York:20250326T181500
DTEND;TZID=America/New_York:20250326T181500
DTSTAMP:20260423T124115
CREATED:20250226T165817Z
LAST-MODIFIED:20250226T165817Z
UID:45479-1743012900-1743012900@burnsestateplanning.com
SUMMARY:Dinner Seminar @ Ambrosia 30A (Watersound\, FL)
DESCRIPTION:
URL:https://burnsestateplanning.com/event-2/dinner-seminar-ambrosia-30a-watersound-fl-4/
LOCATION:Ambrosia 30A\, 75 Origins Main St\, Watersound\, FL\, 32461\, United States
CATEGORIES:Florida Events
END:VEVENT
BEGIN:VEVENT
DTSTART;TZID=America/New_York:20250326T181500
DTEND;TZID=America/New_York:20250326T181500
DTSTAMP:20260423T124115
CREATED:20250226T165600Z
LAST-MODIFIED:20250226T165600Z
UID:45475-1743012900-1743012900@burnsestateplanning.com
SUMMARY:Dinner Seminar @ Bonefish Grill (Pensacola\, FL)
DESCRIPTION:
URL:https://burnsestateplanning.com/event-2/dinner-seminar-bonefish-grill-pensacola-fl-6/
LOCATION:Bonefish Grill (FL)\, 5025 N 12th Ave\, Pensacola\, FL\, 32504\, United States
CATEGORIES:Florida Events
END:VEVENT
BEGIN:VEVENT
DTSTART;TZID=America/New_York:20250326T181500
DTEND;TZID=America/New_York:20250326T181500
DTSTAMP:20260423T124115
CREATED:20250226T165341Z
LAST-MODIFIED:20250226T165356Z
UID:45471-1743012900-1743012900@burnsestateplanning.com
SUMMARY:Dinner Seminar @ River & Post (Jacksonville\,FL)
DESCRIPTION:
URL:https://burnsestateplanning.com/event-2/dinner-seminar-river-post-jacksonvillefl/
LOCATION:River & Post\, 1000 Riverside Ave #100\, Jacksonville\, FL\, 32204\, United States
CATEGORIES:Florida Events
END:VEVENT
BEGIN:VEVENT
DTSTART;TZID=America/New_York:20250326T181500
DTEND;TZID=America/New_York:20250326T181500
DTSTAMP:20260423T124115
CREATED:20250220T194109Z
LAST-MODIFIED:20250220T194109Z
UID:45443-1743012900-1743012900@burnsestateplanning.com
SUMMARY:Dinner Seminar @ Jacmel Inn (Hammond\, LA)
DESCRIPTION:
URL:https://burnsestateplanning.com/event-2/dinner-seminar-jacmel-inn-hammond-la-4/
LOCATION:Jacmel Inn\, 9030 E Morris Ave\, Hammond\, LA\, 70401\, United States
CATEGORIES:Louisiana Events
END:VEVENT
BEGIN:VEVENT
DTSTART;TZID=America/New_York:20250325T181500
DTEND;TZID=America/New_York:20250325T181500
DTSTAMP:20260423T124115
CREATED:20250226T164011Z
LAST-MODIFIED:20250226T164011Z
UID:45467-1742926500-1742926500@burnsestateplanning.com
SUMMARY:Dinner Seminar @ Blu Halo (Tallahassee\, FL)
DESCRIPTION:
URL:https://burnsestateplanning.com/event-2/dinner-seminar-blu-halo-tallahassee-fl-14/
LOCATION:Blu Halo\, 3431 Bannerman Rd Suite 102\, Tallahassee\, FL\, 32312\, United States
CATEGORIES:Florida Events
END:VEVENT
BEGIN:VEVENT
DTSTART;TZID=America/New_York:20250318T181500
DTEND;TZID=America/New_York:20250318T181500
DTSTAMP:20260423T124115
CREATED:20250226T163811Z
LAST-MODIFIED:20250226T163811Z
UID:45463-1742321700-1742321700@burnsestateplanning.com
SUMMARY:Dinner Seminar @ Ruth's Chris (Jacksonville\, FL)
DESCRIPTION:
URL:https://burnsestateplanning.com/event-2/dinner-seminar-ruths-chris-jacksonville-fl/
LOCATION:Ruth Chris Steak House (Jacksonville)\, 1201 Riverplace Blvd.\, Jacksonville\, FL\, 32207\, United States
CATEGORIES:Florida Events
END:VEVENT
BEGIN:VEVENT
DTSTART;TZID=America/New_York:20250318T181500
DTEND;TZID=America/New_York:20250318T181500
DTSTAMP:20260423T124115
CREATED:20250220T173403Z
LAST-MODIFIED:20250220T173403Z
UID:45426-1742321700-1742321700@burnsestateplanning.com
SUMMARY:Dinner Seminar @ Palmettos On The Bayou (Slidell\, LA)
DESCRIPTION:
URL:https://burnsestateplanning.com/event-2/dinner-seminar-palmettos-on-the-bayou-slidell-la-3/
LOCATION:Palmettos on the Bayou\, 1901 Bayou Ln\, Slidell\, LA\, 70458\, United States
CATEGORIES:Louisiana Events
END:VEVENT
BEGIN:VEVENT
DTSTART;TZID=America/New_York:20250313T181500
DTEND;TZID=America/New_York:20250313T181500
DTSTAMP:20260423T124115
CREATED:20250220T173002Z
LAST-MODIFIED:20250220T173002Z
UID:45422-1741889700-1741889700@burnsestateplanning.com
SUMMARY:Dinner Seminar @ Georgio's (Tallahassee\, FL)
DESCRIPTION:
URL:https://burnsestateplanning.com/event-2/dinner-seminar-georgios-tallahassee-fl/
LOCATION:Georgio’s\, 2971 Apalachee Pkwy\, Tallahassee\, FL\, 32301\, United States
CATEGORIES:Florida Events
END:VEVENT
BEGIN:VEVENT
DTSTART;TZID=America/New_York:20250312T181500
DTEND;TZID=America/New_York:20250312T181500
DTSTAMP:20260423T124115
CREATED:20250226T163155Z
LAST-MODIFIED:20250226T163155Z
UID:45458-1741803300-1741803300@burnsestateplanning.com
SUMMARY:Dinner Seminar @ Maggiano's (Jacksonville\, FL)
DESCRIPTION:
URL:https://burnsestateplanning.com/event-2/dinner-seminar-maggianos-jacksonville-fl/
LOCATION:Maggiano’s Little Italy\, Town Center\, 10367 Midtown Pkwy St. Johns\, Jacksonville\, FL\, 32246\, United States
CATEGORIES:Florida Events
END:VEVENT
BEGIN:VEVENT
DTSTART;TZID=America/New_York:20250311T181500
DTEND;TZID=America/New_York:20250311T181500
DTSTAMP:20260423T124115
CREATED:20250226T162808Z
LAST-MODIFIED:20250226T162808Z
UID:45454-1741716900-1741716900@burnsestateplanning.com
SUMMARY:Dinner Seminar @ Captain Anderson’s Restaurant & Waterfront Market (Panama City\, FL)
DESCRIPTION:
URL:https://burnsestateplanning.com/event-2/dinner-seminar-captain-andersons-restaurant-waterfront-market-panama-city-fl/
LOCATION:Captian Anderson’s\, 5551 N Lagoon Dr\, Panama City\, FL 32408\, Panama City\, FL\, 32408
CATEGORIES:Florida Events
END:VEVENT
BEGIN:VEVENT
DTSTART;TZID=America/New_York:20250311T181500
DTEND;TZID=America/New_York:20250311T181500
DTSTAMP:20260423T124115
CREATED:20250226T162612Z
LAST-MODIFIED:20250226T162612Z
UID:45450-1741716900-1741716900@burnsestateplanning.com
SUMMARY:Dinner Seminar @ Jackson's Steakhouse (Pensacola\, FL)
DESCRIPTION:
URL:https://burnsestateplanning.com/event-2/dinner-seminar-jacksons-steakhouse-pensacola-fl-10/
LOCATION:Jackson’s Steakhouse\, 400 S Palafox Street\, Pensacola\, FL\, 32502\, United States
CATEGORIES:Florida Events
END:VEVENT
BEGIN:VEVENT
DTSTART;TZID=America/New_York:20250311T181500
DTEND;TZID=America/New_York:20250311T181500
DTSTAMP:20260423T124115
CREATED:20250220T174524Z
LAST-MODIFIED:20250220T175136Z
UID:45435-1741716900-1741716900@burnsestateplanning.com
SUMMARY:Dinner Seminar @ Roux & Brew (Ponchatoula\, LA)
DESCRIPTION:
URL:https://burnsestateplanning.com/event-2/dinner-seminar-roux-brew-ponchatoula-la-4/
LOCATION:Roux & Brew\, 135 SW Railroad Ave\, Ponchatoula\, LA\, 70454\, United States
CATEGORIES:Louisiana Events
END:VEVENT
BEGIN:VEVENT
DTSTART;TZID=America/New_York:20250226T181500
DTEND;TZID=America/New_York:20250226T181500
DTSTAMP:20260423T124115
CREATED:20241216T164246Z
LAST-MODIFIED:20241216T174339Z
UID:45357-1740593700-1740593700@burnsestateplanning.com
SUMMARY:Dinner Seminar @ Fleming's Prime Steakhouse & Wine Bar (Sandestin\, FL)
DESCRIPTION:
URL:https://burnsestateplanning.com/event-2/dinner-seminar-flemings-prime-steakhouse-wine-bar-sandestin-fl/
LOCATION:Fleming’s Sandestin\, 600 Grand Blvd\, Suite M105\, Sandestin\, FL\, 32550\, United States
CATEGORIES:Florida Events
END:VEVENT
BEGIN:VEVENT
DTSTART;TZID=America/New_York:20250226T181500
DTEND;TZID=America/New_York:20250226T181500
DTSTAMP:20260423T124115
CREATED:20241216T162222Z
LAST-MODIFIED:20241216T174443Z
UID:45325-1740593700-1740593700@burnsestateplanning.com
SUMMARY:Dinner Seminar @ Dauphin's (Mobile\, AL)
DESCRIPTION:
URL:https://burnsestateplanning.com/event-2/dinner-seminar-dauphins-mobile-al/
LOCATION:Dauphin’s\, 107 St. Francis St\, Suite 3400\, Mobile\, AL\, 36602\, United States
CATEGORIES:Alabama Events
END:VEVENT
BEGIN:VEVENT
DTSTART;TZID=America/New_York:20250225T181500
DTEND;TZID=America/New_York:20250225T181500
DTSTAMP:20260423T124115
CREATED:20241216T174008Z
LAST-MODIFIED:20241216T174008Z
UID:45351-1740507300-1740507300@burnsestateplanning.com
SUMMARY:Dinner Seminar @ Lynora's (West Palm Beach\, FL)
DESCRIPTION:
URL:https://burnsestateplanning.com/event-2/dinner-seminar-lynoras-west-palm-beach-fl/
LOCATION:Lynora’s\, 207 Clematis St\, West Palm Beach\, FL\, 33401\, United States
CATEGORIES:Florida Events
END:VEVENT
BEGIN:VEVENT
DTSTART;TZID=America/New_York:20250225T181500
DTEND;TZID=America/New_York:20250225T181500
DTSTAMP:20260423T124115
CREATED:20241216T164140Z
LAST-MODIFIED:20241216T174515Z
UID:45354-1740507300-1740507300@burnsestateplanning.com
SUMMARY:Dinner Seminar @ Cowford Chophouse (Jacksonville\, FL)
DESCRIPTION:
URL:https://burnsestateplanning.com/event-2/dinner-seminar-cowford-chophouse-jacksonville-fl/
LOCATION:Cowford Chophouse\, 101 E Bay St\, Jacksonville\, FL\, 32202\, United States
CATEGORIES:Florida Events
END:VEVENT
BEGIN:VEVENT
DTSTART;TZID=America/New_York:20250219T181500
DTEND;TZID=America/New_York:20250219T181500
DTSTAMP:20260423T124115
CREATED:20241216T173711Z
LAST-MODIFIED:20241216T173711Z
UID:45346-1739988900-1739988900@burnsestateplanning.com
SUMMARY:Dinner Seminar @ River & Post (Jacksonville\, FL)
DESCRIPTION:
URL:https://burnsestateplanning.com/event-2/dinner-seminar-river-post-jacksonville-fl/
LOCATION:River & Post\, 1000 Riverside Ave #100\, Jacksonville\, FL\, 32204\, United States
CATEGORIES:Florida Events
END:VEVENT
BEGIN:VEVENT
DTSTART;TZID=America/New_York:20250219T181500
DTEND;TZID=America/New_York:20250219T181500
DTSTAMP:20260423T124115
CREATED:20241216T163825Z
LAST-MODIFIED:20241216T174539Z
UID:45349-1739988900-1739988900@burnsestateplanning.com
SUMMARY:Dinner Seminar @ Seasons 52 (West Palm Beach\, FL)
DESCRIPTION:
URL:https://burnsestateplanning.com/event-2/dinner-seminar-seasons-52-west-palm-beach-fl/
LOCATION:Seasons 52\, 11611 Ellison Wilson Rd\, Palm Beach Gardens\, FL\, 33408\, United States
CATEGORIES:Florida Events
END:VEVENT
BEGIN:VEVENT
DTSTART;TZID=America/New_York:20250219T181500
DTEND;TZID=America/New_York:20250219T181500
DTSTAMP:20260423T124115
CREATED:20241216T161723Z
LAST-MODIFIED:20241216T174612Z
UID:45320-1739988900-1739988900@burnsestateplanning.com
SUMMARY:Dinner Seminar @ Juban's (Baton Rouge\, LA)
DESCRIPTION:
URL:https://burnsestateplanning.com/event-2/dinner-seminar-sullivans-jubans-la/
LOCATION:Juban’s\, 3739 Perkins Rd\, Baton Rouge\, LA\, 70808\, United States
CATEGORIES:Louisiana Events
END:VEVENT
BEGIN:VEVENT
DTSTART;TZID=America/New_York:20250218T181500
DTEND;TZID=America/New_York:20250218T181500
DTSTAMP:20260423T124115
CREATED:20241216T173527Z
LAST-MODIFIED:20241216T173527Z
UID:45344-1739902500-1739902500@burnsestateplanning.com
SUMMARY:Dinner Seminar @ Ruth Chris (Destin\, FL)
DESCRIPTION:
URL:https://burnsestateplanning.com/event-2/dinner-seminar-ruth-chris-destin-fl-3/
LOCATION:Ruth Chris Steak House (DEST)\, 15000 Emerald Coast Pkwy\, Destin\, FL\, 32541\, United States
CATEGORIES:Florida Events
END:VEVENT
BEGIN:VEVENT
DTSTART;TZID=America/New_York:20250212T181500
DTEND;TZID=America/New_York:20250212T181500
DTSTAMP:20260423T124115
CREATED:20250116T161936Z
LAST-MODIFIED:20250116T161936Z
UID:45388-1739384100-1739384100@burnsestateplanning.com
SUMMARY:Dinner Seminar @ Keith Young's Steakhouse (Madisonville\, LA)
DESCRIPTION:
URL:https://burnsestateplanning.com/event-2/dinner-seminar-keith-youngs-steakhouse-madisonville-la-8/
LOCATION:Keith Young’s Steakhouse\, 165 LA-21\, Madisonville\, LA\, 70447\, United States
CATEGORIES:Louisiana Events
END:VEVENT
BEGIN:VEVENT
DTSTART;TZID=America/New_York:20250212T181500
DTEND;TZID=America/New_York:20250212T181500
DTSTAMP:20260423T124115
CREATED:20241216T172129Z
LAST-MODIFIED:20241216T172129Z
UID:45323-1739384100-1739384100@burnsestateplanning.com
SUMMARY:Dinner Seminar @ Half Shell Oyster House (Mobile\, AL)
DESCRIPTION:
URL:https://burnsestateplanning.com/event-2/dinner-seminar-half-shell-oyster-house-mobile-al/
LOCATION:Half Shell\, 30500 AL-181 #800\, Spanish Fort\, AL\, 36527\, United States
CATEGORIES:Alabama Events
END:VEVENT
BEGIN:VEVENT
DTSTART;TZID=America/New_York:20250211T181500
DTEND;TZID=America/New_York:20250211T181500
DTSTAMP:20260423T124115
CREATED:20250116T161352Z
LAST-MODIFIED:20250116T161352Z
UID:45383-1739297700-1739297700@burnsestateplanning.com
SUMMARY:Dinner Seminar @ Ockeechobee Steakhouse (West Palm Beach\, FL)
DESCRIPTION:
URL:https://burnsestateplanning.com/event-2/dinner-seminar-ockeechobee-steakhouse-west-palm-beach-fl/
LOCATION:Ockeechobee Steakhouse\, 2854 Okeechobee Blvd.\, West Palm Beach\, FL\, 33409\, United States
CATEGORIES:Florida Events
END:VEVENT
BEGIN:VEVENT
DTSTART;TZID=America/New_York:20250211T181500
DTEND;TZID=America/New_York:20250211T181500
DTSTAMP:20260423T124115
CREATED:20241216T171627Z
LAST-MODIFIED:20241216T171627Z
UID:45317-1739297700-1739297700@burnsestateplanning.com
SUMMARY:Dinner Seminar @ Sullivan's (Baton Rouge\, LA)
DESCRIPTION:
URL:https://burnsestateplanning.com/event-2/dinner-seminar-sullivans-baton-rouge-la/
LOCATION:Sullivan’s Steakhouse\, 5252 Corporate Blvd\, Baton Rouge\, LA\, 70808\, United States
CATEGORIES:Louisiana Events
END:VEVENT
END:VCALENDAR